BEGIN:VCALENDAR
VERSION:2.0
CALSCALE:GREGORIAN
PRODID:adamgibbons/ics
METHOD:PUBLISH
X-PUBLISHED-TTL:PT1H
BEGIN:VEVENT
UID:13158@do.basspistol.org
SUMMARY:Taller de autodefensa
DTSTAMP:20260422T111056Z
DTSTART:20260502T090000Z
DTEND:20260502T223000Z
URL:https://do.basspistol.org/event/taller-de-autodefensa
GEO:2.18795;41.48578
LOCATION:La Porvenir - Carrer Major 26\, 08110 Montcada i Reixac
STATUS:CONFIRMED
CATEGORIES:La Porvenir,Montcada i Reixac,SantAndreu,autodefensa,autodefensa
	 feminista,autogestió,gimnàs,taller
END:VEVENT
END:VCALENDAR
